BEGIN:VCALENDAR
VERSION:2.0
PRODID:spatie/icalendar-generator
DESCRIPTION:Events from Geopirene 
X-WR-CALDESC:Events from Geopirene 
REFRESH-INTERVAL;VALUE=DURATION:PT1440M
X-PUBLISHED-TTL:PT1440M
BEGIN:VTIMEZONE
TZID:Etc/GMT+0
BEGIN:STANDARD
DTSTART:20231022T093000Z
TZOFFSETFROM:+0000
TZOFFSETTO:+0000
END:STANDARD
END:VTIMEZONE
BEGIN:VTIMEZONE
TZID:UTC
BEGIN:STANDARD
DTSTART:20250725T085018Z
TZOFFSETFROM:+0000
TZOFFSETTO:+0000
END:STANDARD
END:VTIMEZONE
BEGIN:VEVENT
UID:53-5
DTSTAMP:20260421T085018Z
SUMMARY:Ruta geológica: Jaca en medio del mar
LOCATION:
ORGANIZER;CN=Geopirene:MAILTO:info@geopirene.es
DTSTART;TZID=Etc/GMT+0:20240718T093000
DTEND;TZID=Etc/GMT+0:20240718T123000
X-ALT-DESC;FMTTYPE=TEXT/HTML:Punto de encuentro: rompeolas (final del Paseo
  de la Constitución)\, Jaca. Descripción: Ruta que te lleva a conocer lo
 s principales acontecimientos geológicos de nuestro entorno. Las rocas de
  los alrededores de Jaca se formaron en un antiguo mar en un momento en el
  que las montañas de los Pirineos se estaban elevando. ¿Cómo se ha&amp;hell
 ip\;
CATEGORIES:Visitas y Rutas de naturaleza
URL;VALUE=URI:https://geopirene.es/mc-events/ruta-geologica-jaca-en-medio-d
 el-mar/?mc_id=53
END:VEVENT
END:VCALENDAR