BEGIN:VCALENDAR
VERSION:2.0
PRODID:spatie/icalendar-generator
DESCRIPTION:Events from Geopirene 
X-WR-CALDESC:Events from Geopirene 
REFRESH-INTERVAL;VALUE=DURATION:PT1440M
X-PUBLISHED-TTL:PT1440M
BEGIN:VTIMEZONE
TZID:Etc/GMT+0
BEGIN:STANDARD
DTSTART:20241211T100000Z
TZOFFSETFROM:+0000
TZOFFSETTO:+0000
END:STANDARD
END:VTIMEZONE
BEGIN:VTIMEZONE
TZID:UTC
BEGIN:STANDARD
DTSTART:20250725T085123Z
TZOFFSETFROM:+0000
TZOFFSETTO:+0000
END:STANDARD
END:VTIMEZONE
BEGIN:VEVENT
UID:304-99
DTSTAMP:20260421T085123Z
SUMMARY:Puntos de Encuentro Naturales de la Hoya de Huesca: Fósiles en el 
 valle del Garona
LOCATION:
ORGANIZER;CN=Geopirene:MAILTO:info@geopirene.es
DTSTART;TZID=Etc/GMT+0:20250907T100000
DTEND;TZID=Etc/GMT+0:20250907T130000
X-ALT-DESC;FMTTYPE=TEXT/HTML:Lugar: Rasal\, fuente de los cuatro caños. De
 scripción: Paisaje tradicional y paleontología en el entorno de Rasal. A
 ctividad promovida por la Comarca de la Hoya de Huesca.  Reservas: Comarc
 a de la Hoya
CATEGORIES:Visitas y Rutas de naturaleza
URL;VALUE=URI:https://geopirene.es/mc-events/puntos-de-encuentro-naturales-
 de-la-hoya-de-huesca-fosiles-en-el-valle-del-garona-2/?mc_id=304
END:VEVENT
END:VCALENDAR