BEGIN:VCALENDAR
VERSION:2.0
PRODID:spatie/icalendar-generator
DESCRIPTION:Events from Geopirene 
X-WR-CALDESC:Events from Geopirene 
REFRESH-INTERVAL;VALUE=DURATION:PT1440M
X-PUBLISHED-TTL:PT1440M
BEGIN:VTIMEZONE
TZID:Etc/GMT+0
BEGIN:STANDARD
DTSTART:20250129T100000Z
TZOFFSETFROM:+0000
TZOFFSETTO:+0000
END:STANDARD
END:VTIMEZONE
BEGIN:VTIMEZONE
TZID:UTC
BEGIN:STANDARD
DTSTART:20250724T082713Z
TZOFFSETFROM:+0000
TZOFFSETTO:+0000
END:STANDARD
END:VTIMEZONE
BEGIN:VEVENT
UID:302-97
DTSTAMP:20260420T082713Z
SUMMARY:Puntos de Encuentro Naturales de la Hoya de Huesca: El singular hay
 edo del Peiró
LOCATION:
ORGANIZER;CN=Geopirene:MAILTO:info@geopirene.es
DTSTART;TZID=Etc/GMT+0:20251026T100000
DTEND;TZID=Etc/GMT+0:20251026T153000
X-ALT-DESC;FMTTYPE=TEXT/HTML:Lugar: Señal del Piró en ctra. HU-V-3001 que
  une Arguis con Bentué de Rasal\, Huesca. Descripción: Cromatismo otoña
 l en la senda al hayedo más meridional de la provincia. Actividad promovi
 da por la Comarca de la Hoya de Huesca.  Reservas: Comarca de la Hoya
CATEGORIES:Visitas y Rutas de naturaleza
URL;VALUE=URI:https://geopirene.es/mc-events/puntos-de-encuentro-naturales-
 de-la-hoya-de-huesca-el-singular-hayedo-del-peiro/?mc_id=302
END:VEVENT
END:VCALENDAR