BEGIN:VCALENDAR
VERSION:2.0
PRODID:spatie/icalendar-generator
DESCRIPTION:Events from Geopirene 
X-WR-CALDESC:Events from Geopirene 
REFRESH-INTERVAL;VALUE=DURATION:PT1440M
X-PUBLISHED-TTL:PT1440M
BEGIN:VTIMEZONE
TZID:Etc/GMT+0
BEGIN:STANDARD
DTSTART:20241218T110000Z
TZOFFSETFROM:+0000
TZOFFSETTO:+0000
END:STANDARD
END:VTIMEZONE
BEGIN:VTIMEZONE
TZID:UTC
BEGIN:STANDARD
DTSTART:20250725T085250Z
TZOFFSETFROM:+0000
TZOFFSETTO:+0000
END:STANDARD
END:VTIMEZONE
BEGIN:VEVENT
UID:297-93
DTSTAMP:20260421T085250Z
SUMMARY:Visita técnica al Fuerte de Rapitán
LOCATION:
ORGANIZER;CN=Geopirene:MAILTO:info@geopirene.es
DTSTART;TZID=Etc/GMT+0:20250914T110000
DTEND;TZID=Etc/GMT+0:20250914T130000
X-ALT-DESC;FMTTYPE=TEXT/HTML:Lugar: Fuerte de Rapitán\, Jaca. Descripción
 : Visita con contenido más técnico\, pero asequible para todos los públ
 icos\, en la que se conocerá más en detalle el uso militar de los difere
 ntes espacios del fuerte de Rapitán. Recorreremos espacios que no se ven 
 en las visitas habituales y conoceremos más a fondo este impresionante fu
 erte del&amp;hellip\;
CATEGORIES:Visitas patrimoniales
URL;VALUE=URI:https://geopirene.es/mc-events/visita-tecnica-al-fuerte-de-ra
 pitan-2/?mc_id=297
END:VEVENT
END:VCALENDAR