BEGIN:VCALENDAR
VERSION:2.0
PRODID:spatie/icalendar-generator
DESCRIPTION:Events from Geopirene 
X-WR-CALDESC:Events from Geopirene 
REFRESH-INTERVAL;VALUE=DURATION:PT1440M
X-PUBLISHED-TTL:PT1440M
BEGIN:VTIMEZONE
TZID:Etc/GMT+0
BEGIN:STANDARD
DTSTART:20241112T110000Z
TZOFFSETFROM:+0000
TZOFFSETTO:+0000
END:STANDARD
END:VTIMEZONE
BEGIN:VTIMEZONE
TZID:UTC
BEGIN:STANDARD
DTSTART:20250724T083549Z
TZOFFSETFROM:+0000
TZOFFSETTO:+0000
END:STANDARD
END:VTIMEZONE
BEGIN:VEVENT
UID:244-71
DTSTAMP:20260420T083549Z
SUMMARY:Aventura Rapitán
LOCATION:
ORGANIZER;CN=Geopirene:MAILTO:info@geopirene.es
RRULE:FREQ=WEEKLY;UNTIL=20250824T000000Z
DTSTART;TZID=Etc/GMT+0:20250809T110000
DTEND;TZID=Etc/GMT+0:20250809T123000
X-ALT-DESC;FMTTYPE=TEXT/HTML:Lugar: Fuerte de Rapitán\, Jaca. Descripción
 : Una aventura en familia que encantará a los más pequeños. Una experie
 ncia que mezcla la visita\, el juego y la teatralización para conocer y v
 ivir el fuerte de Rapitán. Recorreremos diferentes estancias del Castillo
  de la mano de un personaje que será parte de la historia y nos guiará&amp;h
 ellip\;
CATEGORIES:Actividades animadas
URL;VALUE=URI:https://geopirene.es/mc-events/aventura-rapitan-7/?mc_id=244
END:VEVENT
END:VCALENDAR