BEGIN:VCALENDAR
VERSION:2.0
PRODID:spatie/icalendar-generator
DESCRIPTION:Events from Geopirene 
X-WR-CALDESC:Events from Geopirene 
REFRESH-INTERVAL;VALUE=DURATION:PT1440M
X-PUBLISHED-TTL:PT1440M
BEGIN:VTIMEZONE
TZID:Etc/GMT+0
BEGIN:STANDARD
DTSTART:20240221T100000Z
TZOFFSETFROM:+0000
TZOFFSETTO:+0000
END:STANDARD
END:VTIMEZONE
BEGIN:VTIMEZONE
TZID:UTC
BEGIN:STANDARD
DTSTART:20250725T085307Z
TZOFFSETFROM:+0000
TZOFFSETTO:+0000
END:STANDARD
END:VTIMEZONE
BEGIN:VEVENT
UID:168-52
DTSTAMP:20260421T085307Z
SUMMARY:Puntos de Encuentro Naturales de la Hoya de Huesca: Foz de Salinas
LOCATION:
ORGANIZER;CN=Geopirene:MAILTO:info@geopirene.es
DTSTART;TZID=Etc/GMT+0:20241117T100000
DTEND;TZID=Etc/GMT+0:20241117T133000
X-ALT-DESC;FMTTYPE=TEXT/HTML:Lugar: Villalangua\, Huesca Descripción: Agre
 ste desfiladero de interés geológico y ornitológico hasta u pueblo aban
 donado. Actividad promovida por la Comarca de la Hoya de Huesca. Reservas:
  Comarca de la Hoya
CATEGORIES:Visitas y Rutas de naturaleza
URL;VALUE=URI:https://geopirene.es/mc-events/puntos-de-encuentro-naturales-
 de-la-hoya-de-huesca-foz-de-salinas/?mc_id=168
END:VEVENT
END:VCALENDAR