BEGIN:VCALENDAR
VERSION:2.0
PRODID:spatie/icalendar-generator
DESCRIPTION:Events from Geopirene 
X-WR-CALDESC:Events from Geopirene 
REFRESH-INTERVAL;VALUE=DURATION:PT1440M
X-PUBLISHED-TTL:PT1440M
BEGIN:VTIMEZONE
TZID:Etc/GMT+0
BEGIN:STANDARD
DTSTART:20231227T100000Z
TZOFFSETFROM:+0000
TZOFFSETTO:+0000
END:STANDARD
END:VTIMEZONE
BEGIN:VTIMEZONE
TZID:UTC
BEGIN:STANDARD
DTSTART:20250725T085419Z
TZOFFSETFROM:+0000
TZOFFSETTO:+0000
END:STANDARD
END:VTIMEZONE
BEGIN:VEVENT
UID:160-44
DTSTAMP:20260421T085419Z
SUMMARY:Puntos de Encuentro Naturales de la Hoya de Huesca: Fósiles en el 
 valle del Garona
LOCATION:
ORGANIZER;CN=Geopirene:MAILTO:info@geopirene.es
DTSTART;TZID=Etc/GMT+0:20240922T100000
DTEND;TZID=Etc/GMT+0:20240922T130000
X-ALT-DESC;FMTTYPE=TEXT/HTML:Lugar: Rasal\, Huesca Descripción: Paisaje tr
 adicional y paleontológico en el entorno de Rasal. Actividad promovida po
 r la Comarca de la Hoya de Huesca. Reservas: Comarca de la Hoya
CATEGORIES:Visitas y Rutas de naturaleza
URL;VALUE=URI:https://geopirene.es/mc-events/puntos-de-encuentro-naturales-
 de-la-hoya-de-huesca-fosiles-en-el-valle-del-garona/?mc_id=160
END:VEVENT
END:VCALENDAR