BEGIN:VCALENDAR
VERSION:2.0
PRODID:spatie/icalendar-generator
DESCRIPTION:Events from Geopirene 
X-WR-CALDESC:Events from Geopirene 
REFRESH-INTERVAL;VALUE=DURATION:PT1440M
X-PUBLISHED-TTL:PT1440M
BEGIN:VTIMEZONE
TZID:Etc/GMT+0
BEGIN:STANDARD
DTSTART:20231116T110000Z
TZOFFSETFROM:+0000
TZOFFSETTO:+0000
END:STANDARD
END:VTIMEZONE
BEGIN:VTIMEZONE
TZID:UTC
BEGIN:STANDARD
DTSTART:20250725T085053Z
TZOFFSETFROM:+0000
TZOFFSETTO:+0000
END:STANDARD
END:VTIMEZONE
BEGIN:VEVENT
UID:122-26
DTSTAMP:20260421T085053Z
SUMMARY:Espacio animación: Don Cucharón cocina con-ciencia
LOCATION:
ORGANIZER;CN=Geopirene:MAILTO:info@geopirene.es
DTSTART;TZID=Etc/GMT+0:20240812T110000
DTEND;TZID=Etc/GMT+0:20240812T120000
X-ALT-DESC;FMTTYPE=TEXT/HTML:Lugar: Fuerte de Rapitán\, Jaca. Descripción
 : Cuenta historias teatralizadas. Público objetivo: familias con niños p
 equeños. Recorrido: actividad que se realiza en algunas de las estancias 
 del fuerte (interior y exterior). No se trata de una visita guiada al fuer
 te. Actividad promovida por el Ayuntamiento de Jaca y realizada por Manu B
 ueno  Venta de entradas en:&amp;hellip\;
CATEGORIES:Actividades animadas
URL;VALUE=URI:https://geopirene.es/mc-events/espacio-animacion-don-cucharon
 -cocina-con-ciencia-2/?mc_id=122
END:VEVENT
END:VCALENDAR